BEGIN:VCALENDAR
VERSION:2.0
PRODID:-//American Spirit Championships - ECPv6.15.20//NONSGML v1.0//EN
CALSCALE:GREGORIAN
METHOD:PUBLISH
X-ORIGINAL-URL:https://ascspirit.com
X-WR-CALDESC:Events for American Spirit Championships
REFRESH-INTERVAL;VALUE=DURATION:PT1H
X-Robots-Tag:noindex
X-PUBLISHED-TTL:PT1H
BEGIN:VTIMEZONE
TZID:UTC
BEGIN:STANDARD
TZOFFSETFROM:+0000
TZOFFSETTO:+0000
TZNAME:UTC
DTSTART:20230101T000000
END:STANDARD
END:VTIMEZONE
BEGIN:VEVENT
DTSTART;VALUE=DATE:20240407
DTEND;VALUE=DATE:20240408
DTSTAMP:20260424T201558
CREATED:20200413T204010Z
LAST-MODIFIED:20240404T015306Z
UID:9057-1712448000-1712534399@ascspirit.com
SUMMARY:Spring Express Nationals 2024
DESCRIPTION:Action Photos - Click Here!\n			\n				\n				\n				\n					Pricing \n				\n				\n					\n				\n				\n				\n					All Star Elite: $75/Athlete \nAll Star Prep: $65/Athlete \nRecreational Cheer (Performance or Traditional): $65/Athlete \nNovice Cheer: $50/Athlete \nShow Team: $50/Athlete \nCheer Abilities: FREE
URL:https://ascspirit.com/event/springexpressnationals/
LOCATION:UMAC @ Tulsa Union\, 6636 S Mingo Rd\, Tulsa\, OK\, 74133\, United States
END:VEVENT
END:VCALENDAR