BEGIN:VCALENDAR
VERSION:2.0
PRODID:-//American Spirit Championships - ECPv6.15.20//NONSGML v1.0//EN
CALSCALE:GREGORIAN
METHOD:PUBLISH
X-WR-CALNAME:American Spirit Championships
X-ORIGINAL-URL:https://ascspirit.com
X-WR-CALDESC:Events for American Spirit Championships
REFRESH-INTERVAL;VALUE=DURATION:PT1H
X-Robots-Tag:noindex
X-PUBLISHED-TTL:PT1H
BEGIN:VTIMEZONE
TZID:UTC
BEGIN:STANDARD
TZOFFSETFROM:+0000
TZOFFSETTO:+0000
TZNAME:UTC
DTSTART:20230101T000000
END:STANDARD
END:VTIMEZONE
BEGIN:VEVENT
DTSTART;VALUE=DATE:20240309
DTEND;VALUE=DATE:20240310
DTSTAMP:20260424T214803
CREATED:20200413T203505Z
LAST-MODIFIED:20230510T215129Z
UID:9056-1709942400-1710028799@ascspirit.com
SUMMARY:North Texas Express Nationals 2024
DESCRIPTION:REGISTER\n			\n				\n				\n				\n					Pricing\n				\n				\n					\n				\n				\n				\n					All Star Elite: $75/Athlete \nAll Star Prep: $65/Athlete \nRecreational Cheer (Performance or Traditional): $65/Athlete \nNovice Cheer: $50/Athlete \nShow Team: $50/Athlete \nCheer Abilities: FREE
URL:https://ascspirit.com/event/north-texas-express-nationals/
LOCATION:Curtis Culwell Center\, 4999 Naaman Forest Blvd.\, Garland\, TX\, 75040\, United States
END:VEVENT
END:VCALENDAR