BEGIN:VCALENDAR
VERSION:2.0
PRODID:-//American Spirit Championships - ECPv6.14.2//NONSGML v1.0//EN
CALSCALE:GREGORIAN
METHOD:PUBLISH
X-WR-CALNAME:American Spirit Championships
X-ORIGINAL-URL:https://ascspirit.com
X-WR-CALDESC:Events for American Spirit Championships
REFRESH-INTERVAL;VALUE=DURATION:PT1H
X-Robots-Tag:noindex
X-PUBLISHED-TTL:PT1H
BEGIN:VTIMEZONE
TZID:America/Chicago
BEGIN:DAYLIGHT
TZOFFSETFROM:-0600
TZOFFSETTO:-0500
TZNAME:CDT
DTSTART:20260308T080000
END:DAYLIGHT
BEGIN:STANDARD
TZOFFSETFROM:-0500
TZOFFSETTO:-0600
TZNAME:CST
DTSTART:20261101T070000
END:STANDARD
END:VTIMEZONE
BEGIN:VEVENT
DTSTART;VALUE=DATE:20260314
DTEND;VALUE=DATE:20260316
DTSTAMP:20260421T114305
CREATED:20250320T183824Z
LAST-MODIFIED:20250320T183824Z
UID:9617-1773446400-1773619199@ascspirit.com
SUMMARY:INDY SPRING FLING
DESCRIPTION:
URL:https://ascspirit.com/event/indy-spring-fling/
LOCATION:indiana State Fairgrounds\, 1202 E 38th St\, Indianapolis\, IN\, 46205\, United States
END:VEVENT
END:VCALENDAR