BEGIN:VCALENDAR
VERSION:2.0
PRODID:-//American Spirit Championships - ECPv6.15.20//NONSGML v1.0//EN
CALSCALE:GREGORIAN
METHOD:PUBLISH
X-ORIGINAL-URL:https://ascspirit.com
X-WR-CALDESC:Events for American Spirit Championships
REFRESH-INTERVAL;VALUE=DURATION:PT1H
X-Robots-Tag:noindex
X-PUBLISHED-TTL:PT1H
BEGIN:VTIMEZONE
TZID:UTC
BEGIN:STANDARD
TZOFFSETFROM:+0000
TZOFFSETTO:+0000
TZNAME:UTC
DTSTART:20230101T000000
END:STANDARD
END:VTIMEZONE
BEGIN:VEVENT
DTSTART;VALUE=DATE:20241214
DTEND;VALUE=DATE:20241216
DTSTAMP:20260424T091417
CREATED:20240628T004027Z
LAST-MODIFIED:20240628T004027Z
UID:9566-1734134400-1734307199@ascspirit.com
SUMMARY:New Jersey Cash Bash Nationals
DESCRIPTION:
URL:https://ascspirit.com/event/new-jersey-cash-bash-nationals/
LOCATION:RWJBarnabas Health Arena\, 1245 Old Freehold Rd\, Toms River\, NJ\, 08753\, United States
END:VEVENT
END:VCALENDAR