BEGIN:VCALENDAR
VERSION:2.0
PRODID:-//American Spirit Championships - ECPv6.15.20//NONSGML v1.0//EN
CALSCALE:GREGORIAN
METHOD:PUBLISH
X-ORIGINAL-URL:https://ascspirit.com
X-WR-CALDESC:Events for American Spirit Championships
REFRESH-INTERVAL;VALUE=DURATION:PT1H
X-Robots-Tag:noindex
X-PUBLISHED-TTL:PT1H
BEGIN:VTIMEZONE
TZID:UTC
BEGIN:STANDARD
TZOFFSETFROM:+0000
TZOFFSETTO:+0000
TZNAME:UTC
DTSTART:20230101T000000
END:STANDARD
END:VTIMEZONE
BEGIN:VEVENT
DTSTART;VALUE=DATE:20241117
DTEND;VALUE=DATE:20241118
DTSTAMP:20260424T105252
CREATED:20240628T000020Z
LAST-MODIFIED:20240628T000020Z
UID:9563-1731801600-1731887999@ascspirit.com
SUMMARY:Tulsa Classic
DESCRIPTION:
URL:https://ascspirit.com/event/tulsa-classic/
LOCATION:UMAC @ Tulsa Union\, 6636 S Mingo Rd\, Tulsa\, OK\, 74133\, United States
END:VEVENT
END:VCALENDAR