BEGIN:VCALENDAR
VERSION:2.0
PRODID:-//American Spirit Championships - ECPv6.15.20//NONSGML v1.0//EN
CALSCALE:GREGORIAN
METHOD:PUBLISH
X-WR-CALNAME:American Spirit Championships
X-ORIGINAL-URL:https://ascspirit.com
X-WR-CALDESC:Events for American Spirit Championships
REFRESH-INTERVAL;VALUE=DURATION:PT1H
X-Robots-Tag:noindex
X-PUBLISHED-TTL:PT1H
BEGIN:VTIMEZONE
TZID:UTC
BEGIN:STANDARD
TZOFFSETFROM:+0000
TZOFFSETTO:+0000
TZNAME:UTC
DTSTART:20230101T000000
END:STANDARD
END:VTIMEZONE
BEGIN:VEVENT
DTSTART;VALUE=DATE:20241116
DTEND;VALUE=DATE:20241117
DTSTAMP:20260424T104943
CREATED:20240627T235856Z
LAST-MODIFIED:20240627T235856Z
UID:9562-1731715200-1731801599@ascspirit.com
SUMMARY:West Texas Express Nationals & Showcase
DESCRIPTION:
URL:https://ascspirit.com/event/west-texas-express-nationals-showcase/
LOCATION:Lubbock Civic Center\, 1501 Mac Davis Ln\, Lubbock\, TX\, 79401\, United States
END:VEVENT
END:VCALENDAR